BEGIN:VCALENDAR
VERSION:2.0
PRODID:-//NSA New Orleans - ECPv6.15.20//NONSGML v1.0//EN
CALSCALE:GREGORIAN
METHOD:PUBLISH
X-ORIGINAL-URL:https://nsaneworleans.com
X-WR-CALDESC:Events for NSA New Orleans
REFRESH-INTERVAL;VALUE=DURATION:PT1H
X-Robots-Tag:noindex
X-PUBLISHED-TTL:PT1H
BEGIN:VTIMEZONE
TZID:America/Chicago
BEGIN:DAYLIGHT
TZOFFSETFROM:-0600
TZOFFSETTO:-0500
TZNAME:CDT
DTSTART:20250309T080000
END:DAYLIGHT
BEGIN:STANDARD
TZOFFSETFROM:-0500
TZOFFSETTO:-0600
TZNAME:CST
DTSTART:20251102T070000
END:STANDARD
BEGIN:DAYLIGHT
TZOFFSETFROM:-0600
TZOFFSETTO:-0500
TZNAME:CDT
DTSTART:20260308T080000
END:DAYLIGHT
BEGIN:STANDARD
TZOFFSETFROM:-0500
TZOFFSETTO:-0600
TZNAME:CST
DTSTART:20261101T070000
END:STANDARD
BEGIN:DAYLIGHT
TZOFFSETFROM:-0600
TZOFFSETTO:-0500
TZNAME:CDT
DTSTART:20270314T080000
END:DAYLIGHT
BEGIN:STANDARD
TZOFFSETFROM:-0500
TZOFFSETTO:-0600
TZNAME:CST
DTSTART:20271107T070000
END:STANDARD
END:VTIMEZONE
BEGIN:VEVENT
DTSTART;TZID=America/Chicago:20260110T090000
DTEND;TZID=America/Chicago:20260110T113000
DTSTAMP:20260422T064412
CREATED:20260106T203141Z
LAST-MODIFIED:20260107T173905Z
UID:1221-1768035600-1768044600@nsaneworleans.com
SUMMARY:Building Your Speaker Business Strong in 2026 with Thom Singer\, CSP
DESCRIPTION:Skip to Registration \nRegardless of if you are a seasoned speaker\, or a new speaker…. the world of speaking is going through changes.\nAnd being aware of the ups and downs of a long-term speaking business will keep you growing in any economy. Every speaker faces setbacks – whether it’s a changing market\, a career slowdown\, a personal challenge\, or a global pandemic that disrupts momentum. The real question isn’t if a rough patch will happen\, but how to bounce back stronger. \nThis is a session that dives into the essential strategies for building a speaking business with confidence\, clarity\, and a fresh game plan. Learn how to reposition for today’s market\, re-engage past clients and industry connections without feeling desperate\, and create a more profitable\, resilient business model that isn’t solely dependent on speaking fees. Whether starting over or preparing for future shifts\, this session provides the tools to thrive\, not just survive. \nWho is Thom Singer\, CSP?\nThom Singer\, CSP\, has spent over 19 years as a professional speaker\, delivering more than 1\,000 presentations for companies\, associations\, and conferences. Known for his expertise in human interaction\, business relationships\, and reputation-building\, Thom has built a career on stage that blends humor\, storytelling\, and actionable content. \nLike many in our profession\, Thom’s speaking business was deeply impacted by the pandemic. With his referral-driven pipeline nearly wiped out\, he faced the daunting challenge of rebuilding from the ground up. Instead of giving up\, he doubled down\, taking on a leadership role as CEO of a nonprofit\, sharpening his brand\, expanding his revenue streams\, and staying connected to the speaking world while reinventing his business for a new era. \nToday\, Thom is once again on stages (45 presentations in 2025)\, consulting with organizations\, and guiding business professionals through their own journeys. \nHe’s a longtime member of NSA\, founding host of the “Speakernomics” podcast (and back in the host chair some of the time in 2026)\, and someone who believes that reinvention is easier when you surround yourself with good people who have your back (and vise versa). \n  \nLOCATION:\nThe Foundation Room at OnPath FCU \n3131 North I-10 Service Road\nMetairie\, LA\, 70002\n \nPlease RSVP and let us know if you plan to attend! \n\nRegister
URL:https://nsaneworleans.com/event/thom-singer/
LOCATION:The Foundation Room at OnPath FCU\, 3131 North I-10 Service Road\, Metairie\, LA\, 70002
ATTACH;FMTTYPE=image/jpeg:https://nsaneworleans.com/wp-content/uploads/2026/01/NSA_2026_01Jan_EventGraphic_FINAL01.jpg
END:VEVENT
END:VCALENDAR